BEGIN:VCALENDAR
VERSION:2.0
PRODID:-//Little Malvern and Welland Parish Council//Meeting Calendar//EN
CALSCALE:GREGORIAN
METHOD:PUBLISH
BEGIN:VEVENT
UID:70433-20220101@littlemalvernandwelland-pc.gov.uk
DTSTAMP:20260419T171054Z
DTSTART;VALUE=DATE:20220101
DTEND;VALUE=DATE:20220102
SUMMARY:Council Meetings &#8211\\; 2022
DESCRIPTION:Full Council Meeting\nView details: https://littlemalvernandwelland-pc.gov.uk/meetings/council-meetings-2022/
URL:https://littlemalvernandwelland-pc.gov.uk/meetings/council-meetings-2022/
END:VEVENT
END:VCALENDAR
