BEGIN:VCALENDAR
VERSION:2.0
PRODID:-//Little Malvern and Welland Parish Council//Meeting Calendar//EN
CALSCALE:GREGORIAN
METHOD:PUBLISH
BEGIN:VEVENT
UID:72578-20250217@littlemalvernandwelland-pc.gov.uk
DTSTAMP:20260421T080141Z
DTSTART;VALUE=DATE:20250217
DTEND;VALUE=DATE:20250218
SUMMARY:Council Meeting &#8211\\; 17th February 2025
DESCRIPTION:Full Council Meeting\nView details: https://littlemalvernandwelland-pc.gov.uk/meetings/council-meeting-17th-february-2025/
URL:https://littlemalvernandwelland-pc.gov.uk/meetings/council-meeting-17th-february-2025/
END:VEVENT
END:VCALENDAR
