BEGIN:VCALENDAR
VERSION:2.0
PRODID:-//Little Malvern and Welland Parish Council//Meeting Calendar//EN
CALSCALE:GREGORIAN
METHOD:PUBLISH
BEGIN:VEVENT
UID:72728-20250227@littlemalvernandwelland-pc.gov.uk
DTSTAMP:20260423T103544Z
DTSTART;VALUE=DATE:20250227
DTEND;VALUE=DATE:20250228
SUMMARY:Exraordinary Council Meeting &#8211\\; 27th February 2025
DESCRIPTION:Full Council Meeting\nView details: https://littlemalvernandwelland-pc.gov.uk/meetings/council-meeting-17th-march-2025/
URL:https://littlemalvernandwelland-pc.gov.uk/meetings/council-meeting-17th-march-2025/
END:VEVENT
END:VCALENDAR
